BEGIN:VCALENDAR
VERSION:2.0
PRODID:-//eventon.com NONSGML v1.0//EN
CALSCALE:GREGORIAN
METHOD:PUBLISH
BEGIN:VEVENT
UID:69e72dcd2cd59
DTSTAMP:20260421T075701Z
DTSTART:20260307T160000Z
DTEND:20260307T220000Z
LOCATION:Little Princess Pop-Up 600 Long Island Ave
SUMMARY:Little Princess Pop-Up Events
DESCRIPTION:The Little Princess Pop-Up is back! Every weekend in March\,  e
 njoy a brunch buffet with entertainment and activities from some of your fa
 vorite princesses. Come ready to sing\,  dance\,  and play with your favori
 te princesses! March 7th &amp; 8th -Featuring Moana\,  Elsa\,  Belle and Ja
 smine. With three different seating times[..]\nhttps://anovelprincessparty.
 com/events/little-princess-pop-up-events-3/
URL:https://anovelprincessparty.com/events/little-princess-pop-up-events-3/
END:VEVENT
END:VCALENDAR