BEGIN:VCALENDAR
VERSION:2.0
PRODID:-//eventon.com NONSGML v1.0//EN
CALSCALE:GREGORIAN
METHOD:PUBLISH
BEGIN:VEVENT
UID:69e72e11acbae
DTSTAMP:20260421T075809Z
DTSTART:20251025T163000Z
DTEND:20251025T180000Z
LOCATION:The Mansion at Glen Cove 200 Dosoris Ln
SUMMARY:Lunch & Dance w/ Taylor!
DESCRIPTION:đź“Ł Calling ALL Swifties &#8211; The Mansion at Glen Cove is h
 osting a very special event on Saturday\,  October 25th from 12:30PM to 2PM
 . â€śLunch &amp; Dance with Taylorâ€ť is created to celebrate Taylor Swiftâ
 €™s recent engagement!!! The event will include:đźĄ¤Lunch with Taylor imper
 sonator featuring Taylorâ€™s personal favorites dishesđźŽ¤ Live[..]\nhttps:
 //anovelprincessparty.com/events/lunch-dance-w-taylor/
URL:https://anovelprincessparty.com/events/lunch-dance-w-taylor/
END:VEVENT
END:VCALENDAR